BEGIN:VCALENDAR
VERSION:2.0
PRODID:-//Trawler-Calendar-Tool 0.2
METHOD:PUBLISH
BEGIN:VTIMEZONE
TZID:Europe/Berlin
BEGIN:STANDARD
TZNAME:CET
DTSTART:20100101T010000
RRULE:FREQ=YEARLY;BYDAY=-1SU;BYMONTH=10
TZOFFSETFROM:+0200
TZOFFSETTO:+0100
END:STANDARD
BEGIN:DAYLIGHT
TZNAME:CEST
DTSTART:20100101T010000
RRULE:FREQ=YEARLY;BYDAY=-1SU;BYMONTH=3
TZOFFSETFROM:+0100
TZOFFSETTO:+0200
END:DAYLIGHT
END:VTIMEZONE
X-WR-TIMEZONE:Europe/Berlin
X-ORIGINAL-URL:https://www.spd-dusslingen.de/termine/
BEGIN:VEVENT
DTSTART;TZID=Europe/Berlin:20260424T193000
DTEND;TZID=Europe/Berlin:20260424T210000
LOCATION:Café Stadtgespräch (Königstraße 2\, 72108 Rottenburg am Neckar)
SUMMARY:Kreismitgliederversammlung
DESCRIPTION:Wir stehen mitten im Prozess der Neuaufstellung der Landespartei und
   auch der Grundsatzprogramm-Prozess der Bundespartei soll bei uns in
   Baden-Württemberg Fahrt aufnehmen. Als Kreisvorstand möchten
   wir Euch gern eine weitere Gelegenheit geben\, zusammenzukommen und
   gemeinsam über die richtigen Schritte in die Zukunft zu
   beraten. 
 
 Bei der Kreismitgliederversammlung wollen wir
   außerdem unsere Delegierten für den
   Landesparteitag am 19. und 20. Juni 2026 in Ulm
   wählen.
 
 Alle Informationen inklusive der Tagesordnung sind
   Euch per Mail zugegangen. Solltet Ihr die Mail nicht bekommen haben\,
   wendet Euch bitte an das RZ oder den Kreisvorstand.
X-ALT-DESC;FMTTYPE=text/plain:Wir stehen mitten im Prozess der Neuaufstellung der Landespartei und
   auch der Grundsatzprogramm-Prozess der Bundespartei soll bei uns in
   Baden-W&uuml\;rttemberg Fahrt aufnehmen. Als Kreisvorstand m&ouml\;chten
   wir Euch gern eine weitere Gelegenheit geben\, zusammenzukommen und
   gemeinsam &uuml\;ber die richtigen Schritte in die Zukunft zu
   beraten.&nbsp\;
 
 Bei der Kreismitgliederversammlung wollen wir
   au&szlig\;erdem unsere Delegierten f&uuml\;r den
   Landesparteitag&nbsp\;am 19. und 20. Juni 2026 in Ulm
   w&auml\;hlen.
 
 Alle Informationen inklusive der Tagesordnung sind
   Euch per Mail zugegangen. Solltet Ihr die Mail nicht bekommen haben\,
   wendet Euch bitte an das RZ oder den Kreisvorstand.
PRIORITY:5
UID:wscms192868-kvtuebingen-0bcd8cd1d351cea3fb74e3bf447da139
URL:https://www.spd-dusslingen.de/calendar192868.ics
END:VEVENT
END:VCALENDAR